BEGIN:VCALENDAR
VERSION:2.0
PRODID:-//RCCG Victory Temple Virginia - ECPv6.15.18//NONSGML v1.0//EN
CALSCALE:GREGORIAN
METHOD:PUBLISH
X-WR-CALNAME:RCCG Victory Temple Virginia
X-ORIGINAL-URL:https://victorytempleva.org
X-WR-CALDESC:Events for RCCG Victory Temple Virginia
REFRESH-INTERVAL;VALUE=DURATION:PT1H
X-Robots-Tag:noindex
X-PUBLISHED-TTL:PT1H
BEGIN:VTIMEZONE
TZID:UTC
BEGIN:STANDARD
TZOFFSETFROM:+0000
TZOFFSETTO:+0000
TZNAME:UTC
DTSTART:20240101T000000
END:STANDARD
END:VTIMEZONE
BEGIN:VEVENT
DTSTART;TZID=UTC:20250503T193000
DTEND;TZID=UTC:20250503T203000
DTSTAMP:20260425T003249
CREATED:20250404T015250Z
LAST-MODIFIED:20250404T015250Z
UID:10000884-1746300600-1746304200@victorytempleva.org
SUMMARY:May Refresh - Fasting & Prayer @ 7:30pm - Day 3
DESCRIPTION:
URL:https://victorytempleva.org/event/may-refresh-fasting-prayer-730pm-day-3/
LOCATION:YouTube
END:VEVENT
BEGIN:VEVENT
DTSTART;TZID=UTC:20250502T193000
DTEND;TZID=UTC:20250502T203000
DTSTAMP:20260425T003249
CREATED:20250404T015031Z
LAST-MODIFIED:20250404T015106Z
UID:10000883-1746214200-1746217800@victorytempleva.org
SUMMARY:May Refresh - Fasting & Prayer @ 7:30pm - Day 2
DESCRIPTION:
URL:https://victorytempleva.org/event/may-refresh-fasting-prayer-730pm-day-2/
LOCATION:YouTube
END:VEVENT
BEGIN:VEVENT
DTSTART;TZID=UTC:20250501T193000
DTEND;TZID=UTC:20250501T203000
DTSTAMP:20260425T003249
CREATED:20250404T014805Z
LAST-MODIFIED:20250404T015203Z
UID:10000882-1746127800-1746131400@victorytempleva.org
SUMMARY:May Refresh - Fasting & Prayer @ 7:30pm - Day 1
DESCRIPTION:
URL:https://victorytempleva.org/event/may-refresh-fasting-prayer-730pm-day-1/
LOCATION:YouTube
END:VEVENT
END:VCALENDAR