BEGIN:VCALENDAR
VERSION:2.0
PRODID:-//RCCG Victory Temple Virginia - ECPv6.15.18//NONSGML v1.0//EN
CALSCALE:GREGORIAN
METHOD:PUBLISH
X-WR-CALNAME:RCCG Victory Temple Virginia
X-ORIGINAL-URL:https://victorytempleva.org
X-WR-CALDESC:Events for RCCG Victory Temple Virginia
REFRESH-INTERVAL;VALUE=DURATION:PT1H
X-Robots-Tag:noindex
X-PUBLISHED-TTL:PT1H
BEGIN:VTIMEZONE
TZID:UTC
BEGIN:STANDARD
TZOFFSETFROM:+0000
TZOFFSETTO:+0000
TZNAME:UTC
DTSTART:20250101T000000
END:STANDARD
END:VTIMEZONE
BEGIN:VEVENT
DTSTART;TZID=UTC:20260201T193000
DTEND;TZID=UTC:20260302T210000
DTSTAMP:20260424T043442
CREATED:20260206T203355Z
LAST-MODIFIED:20260206T203355Z
UID:10000962-1769974200-1772485200@victorytempleva.org
SUMMARY:Fasting/Prayer
DESCRIPTION:
URL:https://victorytempleva.org/event/fasting-prayer/
LOCATION:VA
END:VEVENT
BEGIN:VEVENT
DTSTART;TZID=UTC:20260207T130000
DTEND;TZID=UTC:20260207T160000
DTSTAMP:20260424T043442
CREATED:20260206T174859Z
LAST-MODIFIED:20260206T174859Z
UID:10000956-1770469200-1770480000@victorytempleva.org
SUMMARY:School of Disciples
DESCRIPTION:
URL:https://victorytempleva.org/event/school-of-disciples/
LOCATION:RCCG Victory Temple\, VA\, 7218 Lockport Place\, Lorton\, VA\, 22079\, United States
END:VEVENT
BEGIN:VEVENT
DTSTART;TZID=UTC:20260213T193000
DTEND;TZID=UTC:20260213T203000
DTSTAMP:20260424T043442
CREATED:20260206T181926Z
LAST-MODIFIED:20260206T181926Z
UID:10000957-1771011000-1771014600@victorytempleva.org
SUMMARY:House Fellowship
DESCRIPTION:
URL:https://victorytempleva.org/event/house-fellowship/
LOCATION:VA
END:VEVENT
BEGIN:VEVENT
DTSTART;TZID=UTC:20260214T090000
DTEND;TZID=UTC:20260214T130000
DTSTAMP:20260424T043442
CREATED:20260206T183508Z
LAST-MODIFIED:20260206T183508Z
UID:10000958-1771059600-1771074000@victorytempleva.org
SUMMARY:Pantry
DESCRIPTION:
URL:https://victorytempleva.org/event/pantry/
LOCATION:RCCG Victory Temple\, VA\, 7218 Lockport Place\, Lorton\, VA\, 22079\, United States
END:VEVENT
BEGIN:VEVENT
DTSTART;TZID=UTC:20260215T110000
DTEND;TZID=UTC:20260215T130000
DTSTAMP:20260424T043442
CREATED:20260206T183600Z
LAST-MODIFIED:20260206T183600Z
UID:10000959-1771153200-1771160400@victorytempleva.org
SUMMARY:Relationship Sunday
DESCRIPTION:
URL:https://victorytempleva.org/event/relationship-sunday/
LOCATION:RCCG Victory Temple\, VA\, 7218 Lockport Place\, Lorton\, VA\, 22079\, United States
END:VEVENT
BEGIN:VEVENT
DTSTART;VALUE=DATE:20260227
DTEND;VALUE=DATE:20260228
DTSTAMP:20260424T043442
CREATED:20260206T193346Z
LAST-MODIFIED:20260206T193346Z
UID:10000960-1772150400-1772236799@victorytempleva.org
SUMMARY:7-hour Prayer/Communion
DESCRIPTION:
URL:https://victorytempleva.org/event/7-hour-prayer-communion-2/
LOCATION:VA
END:VEVENT
BEGIN:VEVENT
DTSTART;TZID=UTC:20260228T090000
DTEND;TZID=UTC:20260228T130000
DTSTAMP:20260424T043442
CREATED:20260206T201648Z
LAST-MODIFIED:20260206T201648Z
UID:10000961-1772269200-1772283600@victorytempleva.org
SUMMARY:Pantry
DESCRIPTION:
URL:https://victorytempleva.org/event/pantry-2/
LOCATION:RCCG Victory Temple\, VA\, 7218 Lockport Place\, Lorton\, VA\, 22079\, United States
END:VEVENT
END:VCALENDAR