BEGIN:VCALENDAR
VERSION:2.0
PRODID:-//RCCG Victory Temple Virginia - ECPv6.15.18//NONSGML v1.0//EN
CALSCALE:GREGORIAN
METHOD:PUBLISH
X-ORIGINAL-URL:https://victorytempleva.org
X-WR-CALDESC:Events for RCCG Victory Temple Virginia
REFRESH-INTERVAL;VALUE=DURATION:PT1H
X-Robots-Tag:noindex
X-PUBLISHED-TTL:PT1H
BEGIN:VTIMEZONE
TZID:UTC
BEGIN:STANDARD
TZOFFSETFROM:+0000
TZOFFSETTO:+0000
TZNAME:UTC
DTSTART:20240101T000000
END:STANDARD
END:VTIMEZONE
BEGIN:VEVENT
DTSTART;TZID=UTC:20251205T200000
DTEND;TZID=UTC:20251205T220000
DTSTAMP:20260424T073305
CREATED:20250805T040841Z
LAST-MODIFIED:20250805T040841Z
UID:10000945-1764964800-1764972000@victorytempleva.org
SUMMARY:Regional Holy Ghost Service
DESCRIPTION:
URL:https://victorytempleva.org/event/regional-holy-ghost-service/
LOCATION:RCCG Victory Temple  Bowie\, 13701 Old Annapolis Rd\, Bowie\, MD\, 20720\, United States
END:VEVENT
BEGIN:VEVENT
DTSTART;TZID=UTC:20251207T110000
DTEND;TZID=UTC:20251207T130000
DTSTAMP:20260424T073305
CREATED:20250805T040954Z
LAST-MODIFIED:20250805T040954Z
UID:10000946-1765105200-1765112400@victorytempleva.org
SUMMARY:Sunday Thanksgiving Service
DESCRIPTION:
URL:https://victorytempleva.org/event/sunday-thanksgiving-service-3/
LOCATION:RCCG Victory Temple\, VA\, 7218 Lockport Place\, Lorton\, VA\, 22079\, United States
ATTACH;FMTTYPE=image/jpeg:https://victorytempleva.org/storage/2024/10/CELEBRATION-SERVICE-1-scaled-e1743731704287.jpg
END:VEVENT
BEGIN:VEVENT
DTSTART;VALUE=DATE:20251208
DTEND;VALUE=DATE:20251214
DTSTAMP:20260424T073305
CREATED:20250805T041023Z
LAST-MODIFIED:20250805T041023Z
UID:10000947-1765152000-1765670399@victorytempleva.org
SUMMARY:RCCG Holy Ghost Congress
DESCRIPTION:
URL:https://victorytempleva.org/event/rccg-holy-ghost-congress/
LOCATION:VA
END:VEVENT
BEGIN:VEVENT
DTSTART;TZID=UTC:20251212T193000
DTEND;TZID=UTC:20251212T203000
DTSTAMP:20260424T073305
CREATED:20250805T041106Z
LAST-MODIFIED:20250805T041106Z
UID:10000948-1765567800-1765571400@victorytempleva.org
SUMMARY:In-Person House Fellowship
DESCRIPTION:
URL:https://victorytempleva.org/event/in-person-house-fellowship-7/
LOCATION:VA
END:VEVENT
BEGIN:VEVENT
DTSTART;TZID=UTC:20251213T170000
DTEND;TZID=UTC:20251213T190000
DTSTAMP:20260424T073305
CREATED:20250805T041202Z
LAST-MODIFIED:20250805T041202Z
UID:10000949-1765645200-1765652400@victorytempleva.org
SUMMARY:Christmas Concert
DESCRIPTION:
URL:https://victorytempleva.org/event/christmas-concert/
LOCATION:RCCG Victory Temple\, VA\, 7218 Lockport Place\, Lorton\, VA\, 22079\, United States
END:VEVENT
BEGIN:VEVENT
DTSTART;TZID=UTC:20251214T093000
DTEND;TZID=UTC:20251214T103000
DTSTAMP:20260424T073305
CREATED:20250805T041608Z
LAST-MODIFIED:20250805T041608Z
UID:10000953-1765704600-1765708200@victorytempleva.org
SUMMARY:Worker’s Impartation
DESCRIPTION:
URL:https://victorytempleva.org/event/workers-impartation-6/
LOCATION:RCCG Victory Temple\, VA\, 7218 Lockport Place\, Lorton\, VA\, 22079\, United States
END:VEVENT
BEGIN:VEVENT
DTSTART;TZID=UTC:20251214T110000
DTEND;TZID=UTC:20251214T130000
DTSTAMP:20260424T073305
CREATED:20250805T041409Z
LAST-MODIFIED:20250805T041409Z
UID:10000950-1765710000-1765717200@victorytempleva.org
SUMMARY:Sunday Celebration Service
DESCRIPTION:
URL:https://victorytempleva.org/event/sunday-celebration-service-17/
LOCATION:RCCG Victory Temple\, VA\, 7218 Lockport Place\, Lorton\, VA\, 22079\, United States
ATTACH;FMTTYPE=image/jpeg:https://victorytempleva.org/storage/2024/10/SUNDAY-CELEB.-SERVICE-scaled.jpg
END:VEVENT
BEGIN:VEVENT
DTSTART;TZID=UTC:20251221T110000
DTEND;TZID=UTC:20251221T130000
DTSTAMP:20260424T073305
CREATED:20250805T041458Z
LAST-MODIFIED:20250805T041458Z
UID:10000951-1766314800-1766322000@victorytempleva.org
SUMMARY:Sunday Celebration Service
DESCRIPTION:
URL:https://victorytempleva.org/event/sunday-celebration-service-18/
LOCATION:RCCG Victory Temple\, VA\, 7218 Lockport Place\, Lorton\, VA\, 22079\, United States
ATTACH;FMTTYPE=image/jpeg:https://victorytempleva.org/storage/2024/10/SUNDAY-CELEB.-SERVICE-scaled.jpg
END:VEVENT
BEGIN:VEVENT
DTSTART;TZID=UTC:20251225T110000
DTEND;TZID=UTC:20251225T123000
DTSTAMP:20260424T073305
CREATED:20250805T041656Z
LAST-MODIFIED:20250805T041656Z
UID:10000954-1766660400-1766665800@victorytempleva.org
SUMMARY:Christmas Day Service
DESCRIPTION:
URL:https://victorytempleva.org/event/christmas-day-service/
LOCATION:RCCG Victory Temple\, VA\, 7218 Lockport Place\, Lorton\, VA\, 22079\, United States
END:VEVENT
BEGIN:VEVENT
DTSTART;TZID=UTC:20251228T110000
DTEND;TZID=UTC:20251228T130000
DTSTAMP:20260424T073305
CREATED:20250805T041535Z
LAST-MODIFIED:20250805T041535Z
UID:10000952-1766919600-1766926800@victorytempleva.org
SUMMARY:Sunday Celebration Service
DESCRIPTION:
URL:https://victorytempleva.org/event/sunday-celebration-service-19/
LOCATION:RCCG Victory Temple\, VA\, 7218 Lockport Place\, Lorton\, VA\, 22079\, United States
ATTACH;FMTTYPE=image/jpeg:https://victorytempleva.org/storage/2024/10/SUNDAY-CELEB.-SERVICE-scaled.jpg
END:VEVENT
END:VCALENDAR