BEGIN:VCALENDAR
VERSION:2.0
PRODID:-//RCCG Victory Temple Virginia - ECPv6.15.18//NONSGML v1.0//EN
CALSCALE:GREGORIAN
METHOD:PUBLISH
X-WR-CALNAME:RCCG Victory Temple Virginia
X-ORIGINAL-URL:https://victorytempleva.org
X-WR-CALDESC:Events for RCCG Victory Temple Virginia
REFRESH-INTERVAL;VALUE=DURATION:PT1H
X-Robots-Tag:noindex
X-PUBLISHED-TTL:PT1H
BEGIN:VTIMEZONE
TZID:UTC
BEGIN:STANDARD
TZOFFSETFROM:+0000
TZOFFSETTO:+0000
TZNAME:UTC
DTSTART:20240101T000000
END:STANDARD
END:VTIMEZONE
BEGIN:VEVENT
DTSTART;TZID=UTC:20251005T110000
DTEND;TZID=UTC:20251005T130000
DTSTAMP:20260424T105521
CREATED:20250805T033527Z
LAST-MODIFIED:20250805T033527Z
UID:10000926-1759662000-1759669200@victorytempleva.org
SUMMARY:International Day Service
DESCRIPTION:
URL:https://victorytempleva.org/event/international-day-service/
LOCATION:RCCG Victory Temple\, VA\, 7218 Lockport Place\, Lorton\, VA\, 22079\, United States
END:VEVENT
BEGIN:VEVENT
DTSTART;TZID=UTC:20251010T193000
DTEND;TZID=UTC:20251010T203000
DTSTAMP:20260424T105521
CREATED:20250805T033815Z
LAST-MODIFIED:20250805T033815Z
UID:10000927-1760124600-1760128200@victorytempleva.org
SUMMARY:In-Person House Fellowship
DESCRIPTION:
URL:https://victorytempleva.org/event/in-person-house-fellowship-5/
LOCATION:RCCG Victory Temple\, VA\, 7218 Lockport Place\, Lorton\, VA\, 22079\, United States
END:VEVENT
BEGIN:VEVENT
DTSTART;TZID=UTC:20251012T093000
DTEND;TZID=UTC:20251012T103000
DTSTAMP:20260424T105521
CREATED:20250805T033900Z
LAST-MODIFIED:20250805T033900Z
UID:10000928-1760261400-1760265000@victorytempleva.org
SUMMARY:Worker’s Impartation
DESCRIPTION:
URL:https://victorytempleva.org/event/workers-impartation-4/
LOCATION:RCCG Victory Temple\, VA\, 7218 Lockport Place\, Lorton\, VA\, 22079\, United States
END:VEVENT
BEGIN:VEVENT
DTSTART;TZID=UTC:20251012T110000
DTEND;TZID=UTC:20251012T130000
DTSTAMP:20260424T105521
CREATED:20250805T034709Z
LAST-MODIFIED:20250805T034709Z
UID:10000931-1760266800-1760274000@victorytempleva.org
SUMMARY:Sunday Celebration Service
DESCRIPTION:
URL:https://victorytempleva.org/event/sunday-celebration-service-11/
LOCATION:RCCG Victory Temple\, VA\, 7218 Lockport Place\, Lorton\, VA\, 22079\, United States
ATTACH;FMTTYPE=image/jpeg:https://victorytempleva.org/storage/2024/10/SUNDAY-CELEB.-SERVICE-scaled.jpg
END:VEVENT
BEGIN:VEVENT
DTSTART;TZID=UTC:20251019T110000
DTEND;TZID=UTC:20251019T130000
DTSTAMP:20260424T105521
CREATED:20250805T034753Z
LAST-MODIFIED:20250805T034753Z
UID:10000932-1760871600-1760878800@victorytempleva.org
SUMMARY:Sunday Celebration Service
DESCRIPTION:
URL:https://victorytempleva.org/event/sunday-celebration-service-12/
LOCATION:RCCG Victory Temple\, VA\, 7218 Lockport Place\, Lorton\, VA\, 22079\, United States
ATTACH;FMTTYPE=image/jpeg:https://victorytempleva.org/storage/2024/10/SUNDAY-CELEB.-SERVICE-scaled.jpg
END:VEVENT
BEGIN:VEVENT
DTSTART;VALUE=DATE:20251024
DTEND;VALUE=DATE:20251027
DTSTAMP:20260424T105521
CREATED:20250805T034258Z
LAST-MODIFIED:20250805T034258Z
UID:10000929-1761264000-1761523199@victorytempleva.org
SUMMARY:Virtuous Women’s Conference
DESCRIPTION:
URL:https://victorytempleva.org/event/virtuous-womens-conference/
LOCATION:VA
END:VEVENT
BEGIN:VEVENT
DTSTART;TZID=UTC:20251031T210000
DTEND;TZID=UTC:20251031T230000
DTSTAMP:20260424T105521
CREATED:20250805T034543Z
LAST-MODIFIED:20250805T034543Z
UID:10000930-1761944400-1761951600@victorytempleva.org
SUMMARY:Night of Wonders/Communion
DESCRIPTION:
URL:https://victorytempleva.org/event/night-of-wonders-communion-7/
LOCATION:RCCG Victory Temple\, VA\, 7218 Lockport Place\, Lorton\, VA\, 22079\, United States
ATTACH;FMTTYPE=image/webp:https://victorytempleva.org/storage/2024/10/COMMUNION-SERVICE-UPDATED-B-scaled.webp
END:VEVENT
END:VCALENDAR