BEGIN:VCALENDAR
VERSION:2.0
PRODID:-//RCCG Victory Temple Virginia - ECPv6.15.18//NONSGML v1.0//EN
CALSCALE:GREGORIAN
METHOD:PUBLISH
X-ORIGINAL-URL:https://victorytempleva.org
X-WR-CALDESC:Events for RCCG Victory Temple Virginia
REFRESH-INTERVAL;VALUE=DURATION:PT1H
X-Robots-Tag:noindex
X-PUBLISHED-TTL:PT1H
BEGIN:VTIMEZONE
TZID:UTC
BEGIN:STANDARD
TZOFFSETFROM:+0000
TZOFFSETTO:+0000
TZNAME:UTC
DTSTART:20240101T000000
END:STANDARD
END:VTIMEZONE
BEGIN:VEVENT
DTSTART;TZID=UTC:20250907T110000
DTEND;TZID=UTC:20250907T130000
DTSTAMP:20260424T122851
CREATED:20250805T031648Z
LAST-MODIFIED:20250805T031648Z
UID:10000923-1757242800-1757250000@victorytempleva.org
SUMMARY:Sunday Thanksgiving Service
DESCRIPTION:
URL:https://victorytempleva.org/event/sunday-thanksgiving-service/
LOCATION:RCCG Victory Temple\, VA\, 7218 Lockport Place\, Lorton\, VA\, 22079\, United States
ATTACH;FMTTYPE=image/jpeg:https://victorytempleva.org/storage/2024/10/CELEBRATION-SERVICE-1-scaled-e1743731704287.jpg
END:VEVENT
BEGIN:VEVENT
DTSTART;VALUE=DATE:20250912
DTEND;VALUE=DATE:20250915
DTSTAMP:20260424T122851
CREATED:20250805T021531Z
LAST-MODIFIED:20250805T021531Z
UID:10000917-1757635200-1757894399@victorytempleva.org
SUMMARY:GGC 2025: Living in the Overflow
DESCRIPTION:
URL:https://victorytempleva.org/event/ggc-2025-living-in-the-overflow/
LOCATION:RCCG Victory Temple\, VA\, 7218 Lockport Place\, Lorton\, VA\, 22079\, United States
ATTACH;FMTTYPE=image/png:https://victorytempleva.org/storage/2025/08/Screenshot-2025-08-04-221212.png
END:VEVENT
BEGIN:VEVENT
DTSTART;TZID=UTC:20250914T093000
DTEND;TZID=UTC:20250914T103000
DTSTAMP:20260424T122851
CREATED:20250805T030024Z
LAST-MODIFIED:20250805T034427Z
UID:10000918-1757842200-1757845800@victorytempleva.org
SUMMARY:Worker’s Impartation
DESCRIPTION:
URL:https://victorytempleva.org/event/workers-impartation-3/
LOCATION:RCCG Victory Temple\, VA\, 7218 Lockport Place\, Lorton\, VA\, 22079\, United States
END:VEVENT
BEGIN:VEVENT
DTSTART;TZID=UTC:20250914T110000
DTEND;TZID=UTC:20250914T130000
DTSTAMP:20260424T122851
CREATED:20250805T035232Z
LAST-MODIFIED:20250805T035232Z
UID:10000933-1757847600-1757854800@victorytempleva.org
SUMMARY:Sunday Celebration Service
DESCRIPTION:
URL:https://victorytempleva.org/event/sunday-celebration-service-13/
LOCATION:RCCG Victory Temple\, VA\, 7218 Lockport Place\, Lorton\, VA\, 22079\, United States
ATTACH;FMTTYPE=image/jpeg:https://victorytempleva.org/storage/2024/10/SUNDAY-CELEB.-SERVICE-scaled.jpg
END:VEVENT
BEGIN:VEVENT
DTSTART;VALUE=DATE:20250920
DTEND;VALUE=DATE:20250921
DTSTAMP:20260424T122851
CREATED:20250805T031119Z
LAST-MODIFIED:20250805T032849Z
UID:10000919-1758326400-1758412799@victorytempleva.org
SUMMARY:AFC Pure Worship
DESCRIPTION:
URL:https://victorytempleva.org/event/afc-pure-worship/
LOCATION:RCCG Victory Temple\, VA\, 7218 Lockport Place\, Lorton\, VA\, 22079\, United States
ATTACH;FMTTYPE=image/png:https://victorytempleva.org/storage/2025/08/afc-pure.png
END:VEVENT
BEGIN:VEVENT
DTSTART;TZID=UTC:20250921T110000
DTEND;TZID=UTC:20250921T130000
DTSTAMP:20260424T122851
CREATED:20250805T031200Z
LAST-MODIFIED:20250805T031200Z
UID:10000920-1758452400-1758459600@victorytempleva.org
SUMMARY:AFC Take Over
DESCRIPTION:
URL:https://victorytempleva.org/event/afc-take-over/
LOCATION:RCCG Victory Temple\, VA\, 7218 Lockport Place\, Lorton\, VA\, 22079\, United States
END:VEVENT
BEGIN:VEVENT
DTSTART;TZID=UTC:20250926T210000
DTEND;TZID=UTC:20250926T230000
DTSTAMP:20260424T122851
CREATED:20250805T031259Z
LAST-MODIFIED:20250805T031259Z
UID:10000921-1758920400-1758927600@victorytempleva.org
SUMMARY:Night of Wonders/Communion
DESCRIPTION:
URL:https://victorytempleva.org/event/night-of-wonders-communion-6/
LOCATION:RCCG Victory Temple\, VA\, 7218 Lockport Place\, Lorton\, VA\, 22079\, United States
ATTACH;FMTTYPE=image/webp:https://victorytempleva.org/storage/2024/10/COMMUNION-SERVICE-UPDATED-B-scaled.webp
END:VEVENT
BEGIN:VEVENT
DTSTART;VALUE=DATE:20250927
DTEND;VALUE=DATE:20250928
DTSTAMP:20260424T122851
CREATED:20250805T031353Z
LAST-MODIFIED:20250821T005520Z
UID:10000922-1758931200-1759017599@victorytempleva.org
SUMMARY:Regional Women’s Conference
DESCRIPTION:
URL:https://victorytempleva.org/event/regional-womens-conference/
LOCATION:VA
ATTACH;FMTTYPE=image/jpeg:https://victorytempleva.org/storage/2025/08/2025-annual-virtuous-women-conference.jpg
END:VEVENT
BEGIN:VEVENT
DTSTART;TZID=UTC:20250928T110000
DTEND;TZID=UTC:20250928T130000
DTSTAMP:20260424T122851
CREATED:20250805T031843Z
LAST-MODIFIED:20250805T031843Z
UID:10000925-1759057200-1759064400@victorytempleva.org
SUMMARY:Sunday Celebration Service
DESCRIPTION:
URL:https://victorytempleva.org/event/sunday-celebration-service-10/
LOCATION:RCCG Victory Temple\, VA\, 7218 Lockport Place\, Lorton\, VA\, 22079\, United States
ATTACH;FMTTYPE=image/jpeg:https://victorytempleva.org/storage/2024/10/SUNDAY-CELEB.-SERVICE-scaled.jpg
END:VEVENT
END:VCALENDAR