BEGIN:VCALENDAR
VERSION:2.0
PRODID:-//RCCG Victory Temple Virginia - ECPv6.15.18//NONSGML v1.0//EN
CALSCALE:GREGORIAN
METHOD:PUBLISH
X-ORIGINAL-URL:https://victorytempleva.org
X-WR-CALDESC:Events for RCCG Victory Temple Virginia
REFRESH-INTERVAL;VALUE=DURATION:PT1H
X-Robots-Tag:noindex
X-PUBLISHED-TTL:PT1H
BEGIN:VTIMEZONE
TZID:UTC
BEGIN:STANDARD
TZOFFSETFROM:+0000
TZOFFSETTO:+0000
TZNAME:UTC
DTSTART:20240101T000000
END:STANDARD
END:VTIMEZONE
BEGIN:VEVENT
DTSTART;TZID=UTC:20250711T193000
DTEND;TZID=UTC:20250711T203000
DTSTAMP:20260424T160620
CREATED:20250513T180747Z
LAST-MODIFIED:20250513T180747Z
UID:10000900-1752262200-1752265800@victorytempleva.org
SUMMARY:In-Person House Fellowship
DESCRIPTION:
URL:https://victorytempleva.org/event/in-person-house-fellowship-3/
LOCATION:RCCG Victory Temple\, VA\, 7218 Lockport Place\, Lorton\, VA\, 22079\, United States
END:VEVENT
BEGIN:VEVENT
DTSTART;TZID=UTC:20250713T093000
DTEND;TZID=UTC:20250713T103000
DTSTAMP:20260424T160620
CREATED:20250513T180829Z
LAST-MODIFIED:20250513T180829Z
UID:10000901-1752399000-1752402600@victorytempleva.org
SUMMARY:Worker’s Impartation
DESCRIPTION:
URL:https://victorytempleva.org/event/workers-impartation-2/
LOCATION:RCCG Victory Temple\, VA\, 7218 Lockport Place\, Lorton\, VA\, 22079\, United States
END:VEVENT
BEGIN:VEVENT
DTSTART;TZID=UTC:20250725T210000
DTEND;TZID=UTC:20250725T230000
DTSTAMP:20260424T160620
CREATED:20250513T181110Z
LAST-MODIFIED:20250513T181110Z
UID:10000902-1753477200-1753484400@victorytempleva.org
SUMMARY:Night of Wonders/Communion
DESCRIPTION:
URL:https://victorytempleva.org/event/night-of-wonders-communion-4/
LOCATION:RCCG Victory Temple\, VA\, 7218 Lockport Place\, Lorton\, VA\, 22079\, United States
ATTACH;FMTTYPE=image/webp:https://victorytempleva.org/storage/2024/10/COMMUNION-SERVICE-UPDATED-B-scaled.webp
END:VEVENT
BEGIN:VEVENT
DTSTART;TZID=UTC:20250727T110000
DTEND;TZID=UTC:20250727T130000
DTSTAMP:20260424T160620
CREATED:20250513T181145Z
LAST-MODIFIED:20250513T181145Z
UID:10000903-1753614000-1753621200@victorytempleva.org
SUMMARY:Baptism Sunday
DESCRIPTION:
URL:https://victorytempleva.org/event/baptism-sunday/
LOCATION:RCCG Victory Temple\, VA\, 7218 Lockport Place\, Lorton\, VA\, 22079\, United States
END:VEVENT
END:VCALENDAR