BEGIN:VCALENDAR
VERSION:2.0
PRODID:-//RCCG Victory Temple Virginia - ECPv6.15.18//NONSGML v1.0//EN
CALSCALE:GREGORIAN
METHOD:PUBLISH
X-ORIGINAL-URL:https://victorytempleva.org
X-WR-CALDESC:Events for RCCG Victory Temple Virginia
REFRESH-INTERVAL;VALUE=DURATION:PT1H
X-Robots-Tag:noindex
X-PUBLISHED-TTL:PT1H
BEGIN:VTIMEZONE
TZID:UTC
BEGIN:STANDARD
TZOFFSETFROM:+0000
TZOFFSETTO:+0000
TZNAME:UTC
DTSTART:20240101T000000
END:STANDARD
END:VTIMEZONE
BEGIN:VEVENT
DTSTART;TZID=UTC:20250601T110000
DTEND;TZID=UTC:20250601T130000
DTSTAMP:20260424T175320
CREATED:20250404T030118Z
LAST-MODIFIED:20250404T030118Z
UID:10000892-1748775600-1748782800@victorytempleva.org
SUMMARY:Judah Praise & June Thanksgiving Celebration
DESCRIPTION:
URL:https://victorytempleva.org/event/judah-praise-june-thanksgiving-celebration/
LOCATION:VA
END:VEVENT
BEGIN:VEVENT
DTSTART;TZID=UTC:20250608T110000
DTEND;TZID=UTC:20250608T130000
DTSTAMP:20260424T175320
CREATED:20250513T181754Z
LAST-MODIFIED:20250513T181754Z
UID:10000905-1749380400-1749387600@victorytempleva.org
SUMMARY:Sunday Celebration Service
DESCRIPTION:
URL:https://victorytempleva.org/event/sunday-celebration-service-3/
LOCATION:RCCG Victory Temple\, VA\, 7218 Lockport Place\, Lorton\, VA\, 22079\, United States
ATTACH;FMTTYPE=image/jpeg:https://victorytempleva.org/storage/2024/10/SUNDAY-CELEB.-SERVICE-scaled.jpg
END:VEVENT
BEGIN:VEVENT
DTSTART;VALUE=DATE:20250613
DTEND;VALUE=DATE:20250614
DTSTAMP:20260424T175320
CREATED:20250513T174554Z
LAST-MODIFIED:20250513T174554Z
UID:10000895-1749772800-1749859199@victorytempleva.org
SUMMARY:Couples Gala Night
DESCRIPTION:
URL:https://victorytempleva.org/event/couples-gala-night/
LOCATION:Hyatt Regency at the Baltimore Inner Harbor\, 300 Light St\, Baltimore\, MD\, 21202\, United States
END:VEVENT
BEGIN:VEVENT
DTSTART;TZID=UTC:20250613T193000
DTEND;TZID=UTC:20250613T203000
DTSTAMP:20260424T175320
CREATED:20250513T172928Z
LAST-MODIFIED:20250513T172928Z
UID:10000894-1749843000-1749846600@victorytempleva.org
SUMMARY:In-Person House Fellowship
DESCRIPTION:
URL:https://victorytempleva.org/event/in-person-house-fellowship-2/
LOCATION:RCCG Victory Temple\, VA\, 7218 Lockport Place\, Lorton\, VA\, 22079\, United States
END:VEVENT
BEGIN:VEVENT
DTSTART;TZID=UTC:20250614T190000
DTEND;TZID=UTC:20250614T210000
DTSTAMP:20260424T175321
CREATED:20250513T174717Z
LAST-MODIFIED:20250513T175446Z
UID:10000896-1749927600-1749934800@victorytempleva.org
SUMMARY:Relationship Seminar/Singles Night Out!
DESCRIPTION:
URL:https://victorytempleva.org/event/relationship-seminar/
LOCATION:Hyatt Regency at the Baltimore Inner Harbor\, 300 Light St\, Baltimore\, MD\, 21202\, United States
ATTACH;FMTTYPE=image/png:https://victorytempleva.org/storage/2025/05/Screenshot-2025-05-13-131822.png
END:VEVENT
BEGIN:VEVENT
DTSTART;TZID=UTC:20250615T110000
DTEND;TZID=UTC:20250615T130000
DTSTAMP:20260424T175321
CREATED:20250513T175800Z
LAST-MODIFIED:20250513T175800Z
UID:10000897-1749985200-1749992400@victorytempleva.org
SUMMARY:Father’s Day
DESCRIPTION:
URL:https://victorytempleva.org/event/fathers-day/
LOCATION:RCCG Victory Temple\, VA\, 7218 Lockport Place\, Lorton\, VA\, 22079\, United States
END:VEVENT
BEGIN:VEVENT
DTSTART;TZID=UTC:20250615T110000
DTEND;TZID=UTC:20250615T130000
DTSTAMP:20260424T175321
CREATED:20250513T181827Z
LAST-MODIFIED:20250513T181827Z
UID:10000906-1749985200-1749992400@victorytempleva.org
SUMMARY:Sunday Celebration Service
DESCRIPTION:
URL:https://victorytempleva.org/event/sunday-celebration-service-4/
LOCATION:RCCG Victory Temple\, VA\, 7218 Lockport Place\, Lorton\, VA\, 22079\, United States
ATTACH;FMTTYPE=image/jpeg:https://victorytempleva.org/storage/2024/10/SUNDAY-CELEB.-SERVICE-scaled.jpg
END:VEVENT
BEGIN:VEVENT
DTSTART;TZID=UTC:20250622T110000
DTEND;TZID=UTC:20250622T130000
DTSTAMP:20260424T175321
CREATED:20250513T181858Z
LAST-MODIFIED:20250513T181858Z
UID:10000907-1750590000-1750597200@victorytempleva.org
SUMMARY:Sunday Celebration Service
DESCRIPTION:
URL:https://victorytempleva.org/event/sunday-celebration-service-5/
LOCATION:RCCG Victory Temple\, VA\, 7218 Lockport Place\, Lorton\, VA\, 22079\, United States
ATTACH;FMTTYPE=image/jpeg:https://victorytempleva.org/storage/2024/10/SUNDAY-CELEB.-SERVICE-scaled.jpg
END:VEVENT
BEGIN:VEVENT
DTSTART;TZID=UTC:20250627T210000
DTEND;TZID=UTC:20250627T230000
DTSTAMP:20260424T175321
CREATED:20250513T180055Z
LAST-MODIFIED:20250513T180055Z
UID:10000898-1751058000-1751065200@victorytempleva.org
SUMMARY:Night of Wonders/Communion
DESCRIPTION:
URL:https://victorytempleva.org/event/night-of-wonders-communion-3/
LOCATION:RCCG Victory Temple\, VA\, 7218 Lockport Place\, Lorton\, VA\, 22079\, United States
ATTACH;FMTTYPE=image/webp:https://victorytempleva.org/storage/2024/10/COMMUNION-SERVICE-UPDATED-B-scaled.webp
END:VEVENT
BEGIN:VEVENT
DTSTART;VALUE=DATE:20250629
DTEND;VALUE=DATE:20250630
DTSTAMP:20260424T175321
CREATED:20250513T180301Z
LAST-MODIFIED:20250513T180644Z
UID:10000899-1751155200-1751241599@victorytempleva.org
SUMMARY:Church at the Park
DESCRIPTION:
URL:https://victorytempleva.org/event/church-at-the-park/
LOCATION:VA
END:VEVENT
END:VCALENDAR