BEGIN:VCALENDAR
VERSION:2.0
PRODID:-//RCCG Victory Temple Virginia - ECPv6.15.18//NONSGML v1.0//EN
CALSCALE:GREGORIAN
METHOD:PUBLISH
X-WR-CALNAME:RCCG Victory Temple Virginia
X-ORIGINAL-URL:https://victorytempleva.org
X-WR-CALDESC:Events for RCCG Victory Temple Virginia
REFRESH-INTERVAL;VALUE=DURATION:PT1H
X-Robots-Tag:noindex
X-PUBLISHED-TTL:PT1H
BEGIN:VTIMEZONE
TZID:UTC
BEGIN:STANDARD
TZOFFSETFROM:+0000
TZOFFSETTO:+0000
TZNAME:UTC
DTSTART:20240101T000000
END:STANDARD
END:VTIMEZONE
BEGIN:VEVENT
DTSTART;TZID=UTC:20250328T190000
DTEND;TZID=UTC:20250328T190000
DTSTAMP:20260425T125617
CREATED:20250313T233911Z
LAST-MODIFIED:20250313T234026Z
UID:10000872-1743188400-1743188400@victorytempleva.org
SUMMARY:7-hour Prayer/Communion
DESCRIPTION:
URL:https://victorytempleva.org/event/7-hour-prayer-communion/
LOCATION:RCCG Victory Temple\, VA\, 7218 Lockport Place\, Lorton\, VA\, 22079\, United States
ATTACH;FMTTYPE=image/jpeg:https://victorytempleva.org/storage/2025/03/7-Hours-Prayer.jpg
END:VEVENT
BEGIN:VEVENT
DTSTART;TZID=UTC:20250323T110000
DTEND;TZID=UTC:20250323T130000
DTSTAMP:20260425T125617
CREATED:20250313T233740Z
LAST-MODIFIED:20250323T040905Z
UID:10000871-1742727600-1742734800@victorytempleva.org
SUMMARY:5 Super Sundays - Pastor James Sturdivant
DESCRIPTION:
URL:https://victorytempleva.org/event/5-super-sundays-thanksgiving-anointing-service/
LOCATION:RCCG Victory Temple\, VA\, 7218 Lockport Place\, Lorton\, VA\, 22079\, United States
ATTACH;FMTTYPE=image/jpeg:https://victorytempleva.org/storage/2025/03/Sturdivant-5-Super-Sundays-scaled.jpg
END:VEVENT
BEGIN:VEVENT
DTSTART;TZID=UTC:20250316T110000
DTEND;TZID=UTC:20250316T130000
DTSTAMP:20260425T125617
CREATED:20250313T223338Z
LAST-MODIFIED:20250313T223338Z
UID:10000870-1742122800-1742130000@victorytempleva.org
SUMMARY:5 Super Sundays - Judah Praise
DESCRIPTION:
URL:https://victorytempleva.org/event/5-super-sundays-judah-praise/
LOCATION:RCCG Victory Temple\, VA\, 7218 Lockport Place\, Lorton\, VA\, 22079\, United States
ATTACH;FMTTYPE=image/jpeg:https://victorytempleva.org/storage/2025/03/Judah-Praise-5-super-sundays-1-scaled.jpg
END:VEVENT
END:VCALENDAR