BEGIN:VCALENDAR
VERSION:2.0
PRODID:-//RCCG Victory Temple Virginia - ECPv6.15.18//NONSGML v1.0//EN
CALSCALE:GREGORIAN
METHOD:PUBLISH
X-ORIGINAL-URL:https://victorytempleva.org
X-WR-CALDESC:Events for RCCG Victory Temple Virginia
REFRESH-INTERVAL;VALUE=DURATION:PT1H
X-Robots-Tag:noindex
X-PUBLISHED-TTL:PT1H
BEGIN:VTIMEZONE
TZID:UTC
BEGIN:STANDARD
TZOFFSETFROM:+0000
TZOFFSETTO:+0000
TZNAME:UTC
DTSTART:20250101T000000
END:STANDARD
END:VTIMEZONE
BEGIN:VEVENT
DTSTART;TZID=UTC:20260315T110000
DTEND;TZID=UTC:20260315T130000
DTSTAMP:20260424T110712
CREATED:20260207T033437Z
LAST-MODIFIED:20260207T033437Z
UID:10000967-1773572400-1773579600@victorytempleva.org
SUMMARY:Judah Praise
DESCRIPTION:
URL:https://victorytempleva.org/event/judah-praise/
LOCATION:RCCG Victory Temple\, VA\, 7218 Lockport Place\, Lorton\, VA\, 22079\, United States
END:VEVENT
BEGIN:VEVENT
DTSTART;TZID=UTC:20260320T090000
DTEND;TZID=UTC:20260320T140000
DTSTAMP:20260424T110712
CREATED:20260207T033537Z
LAST-MODIFIED:20260207T033537Z
UID:10000968-1773997200-1774015200@victorytempleva.org
SUMMARY:Minister’s Retreat
DESCRIPTION:
URL:https://victorytempleva.org/event/ministers-retreat/
LOCATION:VA
END:VEVENT
BEGIN:VEVENT
DTSTART;TZID=UTC:20260321T150000
DTEND;TZID=UTC:20260321T190000
DTSTAMP:20260424T110712
CREATED:20260207T033649Z
LAST-MODIFIED:20260207T033649Z
UID:10000969-1774105200-1774119600@victorytempleva.org
SUMMARY:Spring Leadership Summit
DESCRIPTION:
URL:https://victorytempleva.org/event/spring-leadership-summit/
LOCATION:VA
END:VEVENT
BEGIN:VEVENT
DTSTART;TZID=UTC:20260322T110000
DTEND;TZID=UTC:20260322T130000
DTSTAMP:20260424T110712
CREATED:20260207T033737Z
LAST-MODIFIED:20260207T033737Z
UID:10000970-1774177200-1774184400@victorytempleva.org
SUMMARY:Baptism Sunday
DESCRIPTION:
URL:https://victorytempleva.org/event/baptism-sunday-2/
LOCATION:RCCG Victory Temple\, VA\, 7218 Lockport Place\, Lorton\, VA\, 22079\, United States
END:VEVENT
BEGIN:VEVENT
DTSTART;TZID=UTC:20260327T200000
DTEND;TZID=UTC:20260327T210000
DTSTAMP:20260424T110712
CREATED:20260207T033823Z
LAST-MODIFIED:20260207T033823Z
UID:10000971-1774641600-1774645200@victorytempleva.org
SUMMARY:Workers Meeting
DESCRIPTION:
URL:https://victorytempleva.org/event/workers-meeting/
LOCATION:RCCG Victory Temple\, VA\, 7218 Lockport Place\, Lorton\, VA\, 22079\, United States
END:VEVENT
BEGIN:VEVENT
DTSTART;TZID=UTC:20260327T210000
DTEND;TZID=UTC:20260327T230000
DTSTAMP:20260424T110712
CREATED:20260207T034258Z
LAST-MODIFIED:20260207T034258Z
UID:10000972-1774645200-1774652400@victorytempleva.org
SUMMARY:Night of Wonders/Communion
DESCRIPTION:
URL:https://victorytempleva.org/event/night-of-wonders-communion-9/
LOCATION:RCCG Victory Temple\, VA\, 7218 Lockport Place\, Lorton\, VA\, 22079\, United States
END:VEVENT
BEGIN:VEVENT
DTSTART;TZID=UTC:20260328T090000
DTEND;TZID=UTC:20260328T130000
DTSTAMP:20260424T110712
CREATED:20260207T034332Z
LAST-MODIFIED:20260207T034332Z
UID:10000973-1774688400-1774702800@victorytempleva.org
SUMMARY:Pantry
DESCRIPTION:
URL:https://victorytempleva.org/event/pantry-4/
LOCATION:RCCG Victory Temple\, VA\, 7218 Lockport Place\, Lorton\, VA\, 22079\, United States
END:VEVENT
BEGIN:VEVENT
DTSTART;TZID=UTC:20260329T110000
DTEND;TZID=UTC:20260329T130000
DTSTAMP:20260424T110712
CREATED:20260207T035416Z
LAST-MODIFIED:20260207T035416Z
UID:10000974-1774782000-1774789200@victorytempleva.org
SUMMARY:Palm Sunday/Outreach
DESCRIPTION:
URL:https://victorytempleva.org/event/palm-sunday-outreach-2/
LOCATION:RCCG Victory Temple\, VA\, 7218 Lockport Place\, Lorton\, VA\, 22079\, United States
END:VEVENT
BEGIN:VEVENT
DTSTART;TZID=UTC:20260401T193000
DTEND;TZID=UTC:20260403T203000
DTSTAMP:20260424T110712
CREATED:20260207T035544Z
LAST-MODIFIED:20260207T035544Z
UID:10000975-1775071800-1775248200@victorytempleva.org
SUMMARY:Refresh
DESCRIPTION:
URL:https://victorytempleva.org/event/refresh-2/
LOCATION:VA
END:VEVENT
BEGIN:VEVENT
DTSTART;TZID=UTC:20260404T130000
DTEND;TZID=UTC:20260404T160000
DTSTAMP:20260424T110712
CREATED:20260207T035626Z
LAST-MODIFIED:20260207T035626Z
UID:10000976-1775307600-1775318400@victorytempleva.org
SUMMARY:School of Disciples
DESCRIPTION:
URL:https://victorytempleva.org/event/school-of-disciples-3/
LOCATION:VA
END:VEVENT
BEGIN:VEVENT
DTSTART;TZID=UTC:20260405T110000
DTEND;TZID=UTC:20260405T130000
DTSTAMP:20260424T110712
CREATED:20260207T035708Z
LAST-MODIFIED:20260207T035708Z
UID:10000977-1775386800-1775394000@victorytempleva.org
SUMMARY:Easter Sunday Service
DESCRIPTION:
URL:https://victorytempleva.org/event/easter-sunday-service/
LOCATION:RCCG Victory Temple\, VA\, 7218 Lockport Place\, Lorton\, VA\, 22079\, United States
END:VEVENT
BEGIN:VEVENT
DTSTART;TZID=UTC:20260410T193000
DTEND;TZID=UTC:20260410T203000
DTSTAMP:20260424T110712
CREATED:20260207T035748Z
LAST-MODIFIED:20260207T035748Z
UID:10000978-1775849400-1775853000@victorytempleva.org
SUMMARY:House Fellowship
DESCRIPTION:
URL:https://victorytempleva.org/event/house-fellowship-3/
LOCATION:VA
END:VEVENT
BEGIN:VEVENT
DTSTART;TZID=UTC:20260411T090000
DTEND;TZID=UTC:20260411T130000
DTSTAMP:20260424T110712
CREATED:20260207T035835Z
LAST-MODIFIED:20260207T035835Z
UID:10000979-1775898000-1775912400@victorytempleva.org
SUMMARY:Pantry
DESCRIPTION:
URL:https://victorytempleva.org/event/pantry-5/
LOCATION:RCCG Victory Temple\, VA\, 7218 Lockport Place\, Lorton\, VA\, 22079\, United States
END:VEVENT
BEGIN:VEVENT
DTSTART;TZID=UTC:20260418T090000
DTEND;TZID=UTC:20260418T113000
DTSTAMP:20260424T110712
CREATED:20260207T035917Z
LAST-MODIFIED:20260207T035917Z
UID:10000980-1776502800-1776511800@victorytempleva.org
SUMMARY:Spring Cleaning
DESCRIPTION:
URL:https://victorytempleva.org/event/spring-cleaning/
LOCATION:RCCG Victory Temple\, VA\, 7218 Lockport Place\, Lorton\, VA\, 22079\, United States
END:VEVENT
BEGIN:VEVENT
DTSTART;TZID=UTC:20260424T200000
DTEND;TZID=UTC:20260424T210000
DTSTAMP:20260424T110712
CREATED:20260207T040005Z
LAST-MODIFIED:20260207T040005Z
UID:10000981-1777060800-1777064400@victorytempleva.org
SUMMARY:HOD/Ministers Meeting
DESCRIPTION:
URL:https://victorytempleva.org/event/hod-ministers-meeting/
LOCATION:RCCG Victory Temple\, VA\, 7218 Lockport Place\, Lorton\, VA\, 22079\, United States
END:VEVENT
BEGIN:VEVENT
DTSTART;TZID=UTC:20260424T210000
DTEND;TZID=UTC:20260424T230000
DTSTAMP:20260424T110712
CREATED:20260207T040052Z
LAST-MODIFIED:20260207T040052Z
UID:10000982-1777064400-1777071600@victorytempleva.org
SUMMARY:Night of Wonders/Communion
DESCRIPTION:
URL:https://victorytempleva.org/event/night-of-wonders-communion-10/
LOCATION:RCCG Victory Temple\, VA\, 7218 Lockport Place\, Lorton\, VA\, 22079\, United States
END:VEVENT
BEGIN:VEVENT
DTSTART;TZID=UTC:20260425T090000
DTEND;TZID=UTC:20260425T130000
DTSTAMP:20260424T110712
CREATED:20260207T040133Z
LAST-MODIFIED:20260207T040133Z
UID:10000983-1777107600-1777122000@victorytempleva.org
SUMMARY:Pantry
DESCRIPTION:
URL:https://victorytempleva.org/event/pantry-6/
LOCATION:RCCG Victory Temple\, VA\, 7218 Lockport Place\, Lorton\, VA\, 22079\, United States
END:VEVENT
BEGIN:VEVENT
DTSTART;TZID=UTC:20260426T110000
DTEND;TZID=UTC:20260426T130000
DTSTAMP:20260424T110712
CREATED:20260207T040212Z
LAST-MODIFIED:20260207T040212Z
UID:10000984-1777201200-1777208400@victorytempleva.org
SUMMARY:AFC Take Over Sunday
DESCRIPTION:
URL:https://victorytempleva.org/event/afc-take-over-sunday-2/
LOCATION:RCCG Victory Temple\, VA\, 7218 Lockport Place\, Lorton\, VA\, 22079\, United States
END:VEVENT
END:VCALENDAR