BEGIN:VCALENDAR
VERSION:2.0
PRODID:-//RCCG Victory Temple Virginia - ECPv6.15.18//NONSGML v1.0//EN
CALSCALE:GREGORIAN
METHOD:PUBLISH
X-WR-CALNAME:RCCG Victory Temple Virginia
X-ORIGINAL-URL:https://victorytempleva.org
X-WR-CALDESC:Events for RCCG Victory Temple Virginia
REFRESH-INTERVAL;VALUE=DURATION:PT1H
X-Robots-Tag:noindex
X-PUBLISHED-TTL:PT1H
BEGIN:VTIMEZONE
TZID:UTC
BEGIN:STANDARD
TZOFFSETFROM:+0000
TZOFFSETTO:+0000
TZNAME:UTC
DTSTART:20250101T000000
END:STANDARD
END:VTIMEZONE
BEGIN:VEVENT
DTSTART;TZID=UTC:20260424T200000
DTEND;TZID=UTC:20260424T210000
DTSTAMP:20260423T184222
CREATED:20260207T040005Z
LAST-MODIFIED:20260207T040005Z
UID:10000981-1777060800-1777064400@victorytempleva.org
SUMMARY:HOD/Ministers Meeting
DESCRIPTION:
URL:https://victorytempleva.org/event/hod-ministers-meeting/
LOCATION:RCCG Victory Temple\, VA\, 7218 Lockport Place\, Lorton\, VA\, 22079\, United States
END:VEVENT
BEGIN:VEVENT
DTSTART;TZID=UTC:20260424T210000
DTEND;TZID=UTC:20260424T230000
DTSTAMP:20260423T184222
CREATED:20260207T040052Z
LAST-MODIFIED:20260207T040052Z
UID:10000982-1777064400-1777071600@victorytempleva.org
SUMMARY:Night of Wonders/Communion
DESCRIPTION:
URL:https://victorytempleva.org/event/night-of-wonders-communion-10/
LOCATION:RCCG Victory Temple\, VA\, 7218 Lockport Place\, Lorton\, VA\, 22079\, United States
END:VEVENT
BEGIN:VEVENT
DTSTART;TZID=UTC:20260425T090000
DTEND;TZID=UTC:20260425T130000
DTSTAMP:20260423T184222
CREATED:20260207T040133Z
LAST-MODIFIED:20260207T040133Z
UID:10000983-1777107600-1777122000@victorytempleva.org
SUMMARY:Pantry
DESCRIPTION:
URL:https://victorytempleva.org/event/pantry-6/
LOCATION:RCCG Victory Temple\, VA\, 7218 Lockport Place\, Lorton\, VA\, 22079\, United States
END:VEVENT
BEGIN:VEVENT
DTSTART;TZID=UTC:20260426T110000
DTEND;TZID=UTC:20260426T130000
DTSTAMP:20260423T184222
CREATED:20260207T040212Z
LAST-MODIFIED:20260207T040212Z
UID:10000984-1777201200-1777208400@victorytempleva.org
SUMMARY:AFC Take Over Sunday
DESCRIPTION:
URL:https://victorytempleva.org/event/afc-take-over-sunday-2/
LOCATION:RCCG Victory Temple\, VA\, 7218 Lockport Place\, Lorton\, VA\, 22079\, United States
END:VEVENT
END:VCALENDAR