BEGIN:VCALENDAR
VERSION:2.0
PRODID:-//RCCG Victory Temple Virginia - ECPv6.15.18//NONSGML v1.0//EN
CALSCALE:GREGORIAN
METHOD:PUBLISH
X-ORIGINAL-URL:https://victorytempleva.org
X-WR-CALDESC:Events for RCCG Victory Temple Virginia
REFRESH-INTERVAL;VALUE=DURATION:PT1H
X-Robots-Tag:noindex
X-PUBLISHED-TTL:PT1H
BEGIN:VTIMEZONE
TZID:UTC
BEGIN:STANDARD
TZOFFSETFROM:+0000
TZOFFSETTO:+0000
TZNAME:UTC
DTSTART:20250101T000000
END:STANDARD
END:VTIMEZONE
BEGIN:VEVENT
DTSTART;TZID=UTC:20260321T150000
DTEND;TZID=UTC:20260321T190000
DTSTAMP:20260424T043914
CREATED:20260207T033649Z
LAST-MODIFIED:20260207T033649Z
UID:10000969-1774105200-1774119600@victorytempleva.org
SUMMARY:Spring Leadership Summit
DESCRIPTION:
URL:https://victorytempleva.org/event/spring-leadership-summit/
LOCATION:VA
END:VEVENT
END:VCALENDAR