BEGIN:VCALENDAR
VERSION:2.0
PRODID:-//RCCG Victory Temple Virginia - ECPv6.15.18//NONSGML v1.0//EN
CALSCALE:GREGORIAN
METHOD:PUBLISH
X-ORIGINAL-URL:https://victorytempleva.org
X-WR-CALDESC:Events for RCCG Victory Temple Virginia
REFRESH-INTERVAL;VALUE=DURATION:PT1H
X-Robots-Tag:noindex
X-PUBLISHED-TTL:PT1H
BEGIN:VTIMEZONE
TZID:UTC
BEGIN:STANDARD
TZOFFSETFROM:+0000
TZOFFSETTO:+0000
TZNAME:UTC
DTSTART:20250101T000000
END:STANDARD
END:VTIMEZONE
BEGIN:VEVENT
DTSTART;TZID=UTC:20260201T193000
DTEND;TZID=UTC:20260302T210000
DTSTAMP:20260424T060428
CREATED:20260206T203355Z
LAST-MODIFIED:20260206T203355Z
UID:10000962-1769974200-1772485200@victorytempleva.org
SUMMARY:Fasting/Prayer
DESCRIPTION:
URL:https://victorytempleva.org/event/fasting-prayer/
LOCATION:VA
END:VEVENT
END:VCALENDAR