BEGIN:VCALENDAR
VERSION:2.0
PRODID:-//RCCG Victory Temple Virginia - ECPv6.15.18//NONSGML v1.0//EN
CALSCALE:GREGORIAN
METHOD:PUBLISH
X-ORIGINAL-URL:https://victorytempleva.org
X-WR-CALDESC:Events for RCCG Victory Temple Virginia
REFRESH-INTERVAL;VALUE=DURATION:PT1H
X-Robots-Tag:noindex
X-PUBLISHED-TTL:PT1H
BEGIN:VTIMEZONE
TZID:UTC
BEGIN:STANDARD
TZOFFSETFROM:+0000
TZOFFSETTO:+0000
TZNAME:UTC
DTSTART:20240101T000000
END:STANDARD
END:VTIMEZONE
BEGIN:VEVENT
DTSTART;TZID=UTC:20251109T093000
DTEND;TZID=UTC:20251109T103000
DTSTAMP:20260424T105831
CREATED:20250805T035822Z
LAST-MODIFIED:20250805T035822Z
UID:10000937-1762680600-1762684200@victorytempleva.org
SUMMARY:Worker’s Impartation
DESCRIPTION:
URL:https://victorytempleva.org/event/workers-impartation-5/
LOCATION:RCCG Victory Temple\, VA\, 7218 Lockport Place\, Lorton\, VA\, 22079\, United States
END:VEVENT
BEGIN:VEVENT
DTSTART;TZID=UTC:20251109T110000
DTEND;TZID=UTC:20251109T130000
DTSTAMP:20260424T105831
CREATED:20250805T031749Z
LAST-MODIFIED:20250805T034940Z
UID:10000924-1762686000-1762693200@victorytempleva.org
SUMMARY:Sunday Celebration Service
DESCRIPTION:
URL:https://victorytempleva.org/event/sunday-celebration-service-9/
LOCATION:RCCG Victory Temple\, VA\, 7218 Lockport Place\, Lorton\, VA\, 22079\, United States
ATTACH;FMTTYPE=image/jpeg:https://victorytempleva.org/storage/2024/10/SUNDAY-CELEB.-SERVICE-scaled.jpg
END:VEVENT
END:VCALENDAR