BEGIN:VCALENDAR
VERSION:2.0
PRODID:-//RCCG Victory Temple Virginia - ECPv6.15.18//NONSGML v1.0//EN
CALSCALE:GREGORIAN
METHOD:PUBLISH
X-WR-CALNAME:RCCG Victory Temple Virginia
X-ORIGINAL-URL:https://victorytempleva.org
X-WR-CALDESC:Events for RCCG Victory Temple Virginia
REFRESH-INTERVAL;VALUE=DURATION:PT1H
X-Robots-Tag:noindex
X-PUBLISHED-TTL:PT1H
BEGIN:VTIMEZONE
TZID:UTC
BEGIN:STANDARD
TZOFFSETFROM:+0000
TZOFFSETTO:+0000
TZNAME:UTC
DTSTART:20240101T000000
END:STANDARD
END:VTIMEZONE
BEGIN:VEVENT
DTSTART;TZID=UTC:20251102T110000
DTEND;TZID=UTC:20251102T130000
DTSTAMP:20260424T105633
CREATED:20250805T035519Z
LAST-MODIFIED:20250805T035519Z
UID:10000934-1762081200-1762088400@victorytempleva.org
SUMMARY:Sunday Thanksgiving Service
DESCRIPTION:
URL:https://victorytempleva.org/event/sunday-thanksgiving-service-2/
LOCATION:RCCG Victory Temple\, VA\, 7218 Lockport Place\, Lorton\, VA\, 22079\, United States
ATTACH;FMTTYPE=image/jpeg:https://victorytempleva.org/storage/2024/10/CELEBRATION-SERVICE-1-scaled-e1743731704287.jpg
END:VEVENT
END:VCALENDAR